BEGIN:VCALENDAR
VERSION:2.0
PRODID:-//jEvents 2.0 for Joomla//EN
CALSCALE:GREGORIAN
METHOD:PUBLISH
BEGIN:VEVENT
UID:fdde45d69784dd0d724f56181f5fe1cb
CATEGORIES:Seminare
CREATED:20251124T145125
SUMMARY:Angewandte Galvanotechnik in Theorie und Praxis - Modul 1
LOCATION:TÜV Rheinland Akademie GmbH Seminarzentrum Nürnberg \nTillystr. 2 \n90431 N
 ürnberg 
DESCRIPTION:Allgemeine Grundlagen und galvanische Zusammenhänge begreifen.Die Anforderu
 ngen an die Qualität galvanisch abgeschiedener Schichten sowie an die Stabi
 lität und Reproduzierbarkeit der eingesetzten Prozesse nehmen ständig zu. U
 m galvanische Prozesse unter diesen Bedingungen erfolgreich anwenden zu kön
 nen, ist eine gute fachspezifische Ausbildung aller am Beschichtungsprozess
  Beteiligten notwendig.\nNutzen\n - Sie werden mit den Grundlagen der Galva
 notechnik vertraut gemacht.\n - Neben dem persönlichen Kompetenzgewinn der 
 Teilnehmenden, verfügt das Unternehmen mit dem qualifizierten Abschluss als
  "Fachkraft Galvanotechnik (TÜV)" über einen geeigneten Nachweis für die Fo
 rderung der DIN EN ISO 9001 oder TS 16949, das eingesetzte Personal entspre
 chend zu qualifizieren. Dies unterstützt Ihr Unternehmen im Hinblick auf ei
 ne erfolgreiche Auditierung seitens Zertifizierungsstellen und Lieferanten.
 \n - In den Modulen 2 und 3 sind Praktika wichtige Bestandteile der Wissens
 vermittlung, Sie gewinnen dadurch Sicherheit in der Umsetzung des erworbene
 n Wissens.\n - Neben einem umfangreichen Teilnehmerskript sind auch ein Fac
 hbuch und ein Periodensystem Bestandteil der Teilnehmerunterlagen.Zielgrupp
 eBeschäftigte galvanotechnischer Betriebe sowie galvanotechnisch Interessie
 rte, fachfremde Führungskräfte, QS-Verantwortliche, Konstrukteure und Konst
 rukteurinnen für die Planung galvanischer Oberflächen, Einkaufsverantwortli
 che für galvanisierte Oberflächen.InhalteModul 1 – Allgemeine Grundlagen un
 d galvanische Zusammenhänge begreifen\n\n - Anforderung und Voraussetzung z
 ur Erstellung einer galvanischen Oberfläche\n - Werkstoffübersicht\n - Verf
 ahrensübersicht\n - Galvanogerechte Bauteilkonstruktion und -fertigung\n - 
 Anlagentechnik\n - Peripherie\n - Chemische Grundlagen galvanischer Prozess
 e\n - Elektrochemische Grundlagen galvanischer Prozesse\n - Physikalische G
 rundlagen galvanischer Prozesse\n - Elektrotechnische Grundlagen galvanisch
 er Prozesse\n - Berechnungen in der Galvanotechnik \nWeitere Informationen 
 auf:  akademie.tuv.com/weiterbildungen/angewandte-galvanotechnik-in-theorie
 -und-praxis-modul-1\n
X-ALT-DESC;FMTTYPE=text/html:<table style="border-collapse: collapse; width: 100.042%; border-width: 2px
 ; background-color: rgb(255, 255, 255); border-color: rgb(255, 255, 255);" 
 border="1"><colgroup><col style="width: 99.915%;"></colgroup><tbody><tr><td
  style="border-width: 2px; padding: 8px; border-color: rgb(255, 255, 255);"
 ><h3>Allgemeine Grundlagen und galvanische Zusammenhänge begreifen.</h3><p>
 Die Anforderungen an die Qualität galvanisch abgeschiedener Schichten sowie
  an die Stabilität und Reproduzierbarkeit der eingesetzten Prozesse nehmen 
 ständig zu. Um galvanische Prozesse unter diesen Bedingungen erfolgreich an
 wenden zu können, ist eine gute fachspezifische Ausbildung aller am Beschic
 htungsprozess Beteiligten notwendig.</p><h3>Nutzen</h3><ul><li>Sie werden m
 it den Grundlagen der Galvanotechnik vertraut gemacht.</li><li>Neben dem pe
 rsönlichen Kompetenzgewinn der Teilnehmenden, verfügt das Unternehmen mit d
 em qualifizierten Abschluss als "Fachkraft Galvanotechnik (TÜV)" über einen
  geeigneten Nachweis für die Forderung der DIN EN ISO 9001 oder TS 16949, d
 as eingesetzte Personal entsprechend zu qualifizieren. Dies unterstützt Ihr
  Unternehmen im Hinblick auf eine erfolgreiche Auditierung seitens Zertifiz
 ierungsstellen und Lieferanten.</li><li>In den Modulen 2 und 3 sind Praktik
 a wichtige Bestandteile der Wissensvermittlung, Sie gewinnen dadurch Sicher
 heit in der Umsetzung des erworbenen Wissens.</li><li>Neben einem umfangrei
 chen Teilnehmerskript sind auch ein Fachbuch und ein Periodensystem Bestand
 teil der Teilnehmerunterlagen.</li></ul><section id="target-group" class="m
 b-8"><h3 class="text-2xl tracking-normal font-normal text-gray-900">Zielgru
 ppe</h3><div class="mt-4">Beschäftigte galvanotechnischer Betriebe sowie ga
 lvanotechnisch Interessierte, fachfremde Führungskräfte, QS-Verantwortliche
 , Konstrukteure und Konstrukteurinnen für die Planung galvanischer Oberfläc
 hen, Einkaufsverantwortliche für galvanisierte Oberflächen.</div></section>
 <section id="content" class="mb-8"><h3 class="text-2xl tracking-normal font
 -normal text-gray-900">Inhalte</h3><div class="mt-4 max-h-[385px] overflow-
 hidden" style="max-height: 385px;"><p><strong>Modul 1 –</strong> <strong>Al
 lgemeine Grundlagen und galvanische Zusammenhänge begreifen</strong></p><ul
 ><li>Anforderung und Voraussetzung zur Erstellung einer galvanischen Oberfl
 äche<ul><li>Werkstoffübersicht</li><li>Verfahrensübersicht</li><li>Galvanog
 erechte Bauteilkonstruktion und -fertigung</li><li>Anlagentechnik</li><li>P
 eripherie</li></ul></li><li>Chemische Grundlagen galvanischer Prozesse</li>
 <li>Elektrochemische Grundlagen galvanischer Prozesse</li><li>Physikalische
  Grundlagen galvanischer Prozesse</li><li>Elektrotechnische Grundlagen galv
 anischer Prozesse</li><li>Berechnungen in der Galvanotechnik</li></ul></div
 ><p> </p><p><strong>Weitere Informationen auf:  <a title="TÜV" href="https:
 //akademie.tuv.com/weiterbildungen/angewandte-galvanotechnik-in-theorie-und
 -praxis-modul-1-473411?elq=5c3edc8f75ce4be1948296e571c66070&amp;elqCampaign
 Id=4257&amp;elqTrackId=2cf861ef629144ae9ee6c3c7711f69fa&amp;elqaid=4514&amp
 ;elqat=1&amp;elqcsid=1681&amp;elqcst=272#dates-section">akademie.tuv.com/we
 iterbildungen/angewandte-galvanotechnik-in-theorie-und-praxis-modul-1</a></
 strong></p></section></td></tr></tbody></table>
CONTACT:Dr. Christian Geistmann
DTSTAMP:20260420T153136
DTSTART;VALUE=DATE:20261116
DTEND;VALUE=DATE:20261121
SEQUENCE:0
TRANSP:OPAQUE
END:VEVENT
END:VCALENDAR